BEGIN:VCALENDAR
VERSION:2.0
PRODID:-//Shree Devkikrishna - ECPv6.5.2//NONSGML v1.0//EN
CALSCALE:GREGORIAN
METHOD:PUBLISH
X-WR-CALNAME:Shree Devkikrishna
X-ORIGINAL-URL:https://shreedevkikrishna.in
X-WR-CALDESC:Events for Shree Devkikrishna
REFRESH-INTERVAL;VALUE=DURATION:PT1H
X-Robots-Tag:noindex
X-PUBLISHED-TTL:PT1H
BEGIN:VTIMEZONE
TZID:UTC
BEGIN:STANDARD
TZOFFSETFROM:+0000
TZOFFSETTO:+0000
TZNAME:UTC
DTSTART:20250101T000000
END:STANDARD
END:VTIMEZONE
BEGIN:VEVENT
DTSTART;TZID=UTC:20251214T080000
DTEND;TZID=UTC:20251214T200000
DTSTAMP:20260419T123146
CREATED:20250413T025506Z
LAST-MODIFIED:20250413T025506Z
UID:23187-1765699200-1765742400@shreedevkikrishna.in
SUMMARY:Kr. Dashmi
DESCRIPTION:Shree Mallinath Jatra\, Bramhan-Suvasini Santarpan\, Lalkhi & Roupya Shibikotsava 8:30 pm
URL:https://shreedevkikrishna.in/event/kr-dashmi-4/
CATEGORIES:Margashirsha
ATTACH;FMTTYPE=image/jpeg:https://shreedevkikrishna.in/wp-content/uploads/2024/07/5-1.jpg
END:VEVENT
END:VCALENDAR