BEGIN:VCALENDAR
VERSION:2.0
PRODID:-//Shree Devkikrishna - ECPv6.5.2//NONSGML v1.0//EN
CALSCALE:GREGORIAN
METHOD:PUBLISH
X-ORIGINAL-URL:https://shreedevkikrishna.in
X-WR-CALDESC:Events for Shree Devkikrishna
REFRESH-INTERVAL;VALUE=DURATION:PT1H
X-Robots-Tag:noindex
X-PUBLISHED-TTL:PT1H
BEGIN:VTIMEZONE
TZID:UTC
BEGIN:STANDARD
TZOFFSETFROM:+0000
TZOFFSETTO:+0000
TZNAME:UTC
DTSTART:20250101T000000
END:STANDARD
END:VTIMEZONE
BEGIN:VEVENT
DTSTART;TZID=UTC:20251223T080000
DTEND;TZID=UTC:20251223T200000
DTSTAMP:20260419T123327
CREATED:20250413T032207Z
LAST-MODIFIED:20250413T032207Z
UID:23202-1766476800-1766520000@shreedevkikrishna.in
SUMMARY:Sh. Tritiya
DESCRIPTION:Shibikotsava at 9:30 pm & Cultural Programme at Shree Laxmi-Ravalnath Gavanwada
URL:https://shreedevkikrishna.in/event/sh-tritiya-5/
CATEGORIES:Pousha
ATTACH;FMTTYPE=image/jpeg:https://shreedevkikrishna.in/wp-content/uploads/2024/07/4-1.jpg
END:VEVENT
END:VCALENDAR