BEGIN:VCALENDAR
VERSION:2.0
PRODID:-//Shree Devkikrishna - ECPv6.5.2//NONSGML v1.0//EN
CALSCALE:GREGORIAN
METHOD:PUBLISH
X-ORIGINAL-URL:https://shreedevkikrishna.in
X-WR-CALDESC:Events for Shree Devkikrishna
REFRESH-INTERVAL;VALUE=DURATION:PT1H
X-Robots-Tag:noindex
X-PUBLISHED-TTL:PT1H
BEGIN:VTIMEZONE
TZID:UTC
BEGIN:STANDARD
TZOFFSETFROM:+0000
TZOFFSETTO:+0000
TZNAME:UTC
DTSTART:20240101T000000
END:STANDARD
END:VTIMEZONE
BEGIN:VEVENT
DTSTART;TZID=UTC:20251002T080000
DTEND;TZID=UTC:20251002T200000
DTSTAMP:20260420T030035
CREATED:20250411T171154Z
LAST-MODIFIED:20250411T171154Z
UID:23128-1759392000-1759435200@shreedevkikrishna.in
SUMMARY:Sh. Dashmi
DESCRIPTION:Vijayadashami\, Shimollanghan\, Roupya Shibikotsava\, Kaulprasad\n (Vatsa\, Kashyap & Koushik Gotra) Shree Devkikrishna\, Shree Dadsakhal & Shree Mallinath Rangapuja
URL:https://shreedevkikrishna.in/event/sh-dashmi-2/
CATEGORIES:Ashwin
ATTACH;FMTTYPE=image/jpeg:https://shreedevkikrishna.in/wp-content/uploads/2024/07/4-1.jpg
END:VEVENT
BEGIN:VEVENT
DTSTART;TZID=UTC:20250922T080000
DTEND;TZID=UTC:20251001T200000
DTSTAMP:20260420T030035
CREATED:20250411T171028Z
LAST-MODIFIED:20250411T171028Z
UID:23126-1758528000-1759348800@shreedevkikrishna.in
SUMMARY:Navratra Utsav Prarambh\, Ghatastapana\, daily Hari Kirtan at 8 pm & Makharotsava thereafter.
DESCRIPTION:Sh. Pratipada to Sh. Navami – Monday 22-9-25 to Wednesday 1-10-25\n Navratra Utsav Prarambh\, Ghatastapana\, daily Hari Kirtan at 8 pm & Makharotsava thereafter.
URL:https://shreedevkikrishna.in/event/navratra-utsav-prarambh-ghatastapana-daily-hari-kirtan-at-8-pm-makharotsava-thereafter/
CATEGORIES:Ashwin
ATTACH;FMTTYPE=image/jpeg:https://shreedevkikrishna.in/wp-content/uploads/2024/07/2-1.jpg
END:VEVENT
BEGIN:VEVENT
DTSTART;TZID=UTC:20241101T080000
DTEND;TZID=UTC:20241101T210000
DTSTAMP:20260420T030035
CREATED:20240730T100849Z
LAST-MODIFIED:20240730T100849Z
UID:21882-1730448000-1730494800@shreedevkikrishna.in
SUMMARY:Amavasya
DESCRIPTION:Amavasya \nFriday \n01-11-2024 \nShree Laxmi Kuber Pujan.
URL:https://shreedevkikrishna.in/event/amavasya/
CATEGORIES:Ashwin
ATTACH;FMTTYPE=image/jpeg:https://shreedevkikrishna.in/wp-content/uploads/2024/07/2-1.jpg
END:VEVENT
BEGIN:VEVENT
DTSTART;TZID=UTC:20241031T080000
DTEND;TZID=UTC:20241031T200000
DTSTAMP:20260420T030035
CREATED:20240730T100245Z
LAST-MODIFIED:20240730T100245Z
UID:21878-1730361600-1730404800@shreedevkikrishna.in
SUMMARY:Kr. Chaturdashi 
DESCRIPTION:Kr. Chaturdashi \nThursday \n31-10-2024 \nNarakchaturdashi (Dipavali)
URL:https://shreedevkikrishna.in/event/kr-chaturdashi/
CATEGORIES:Ashwin
ATTACH;FMTTYPE=image/jpeg:https://shreedevkikrishna.in/wp-content/uploads/2024/07/5-1.jpg
END:VEVENT
BEGIN:VEVENT
DTSTART;TZID=UTC:20241016T080000
DTEND;TZID=UTC:20241016T200000
DTSTAMP:20260420T030035
CREATED:20240730T095510Z
LAST-MODIFIED:20240730T095510Z
UID:21876-1729065600-1729108800@shreedevkikrishna.in
SUMMARY:Pournima
DESCRIPTION:Pournima \nWednesday \n16-10-2024 \nKojagari Pournima Utsav
URL:https://shreedevkikrishna.in/event/pournima/
CATEGORIES:Ashwin
ATTACH;FMTTYPE=image/jpeg:https://shreedevkikrishna.in/wp-content/uploads/2024/07/hindu-5488476_1280-1.jpg
END:VEVENT
BEGIN:VEVENT
DTSTART;TZID=UTC:20241015T080000
DTEND;TZID=UTC:20241015T200000
DTSTAMP:20260420T030035
CREATED:20240730T072615Z
LAST-MODIFIED:20240730T072615Z
UID:21874-1728979200-1729022400@shreedevkikrishna.in
SUMMARY:Sh. Trayodashi Kaulprasad
DESCRIPTION:Sh. Trayodashi \nTuesday \n15-10-2024 \nKaulprasad (Daivadnya Bramhan) Shree Devkikrishna Rangapuja
URL:https://shreedevkikrishna.in/event/sh-trayodashi-kaulprasad/
CATEGORIES:Ashwin
ATTACH;FMTTYPE=image/jpeg:https://shreedevkikrishna.in/wp-content/uploads/2020/05/1.jpg
END:VEVENT
BEGIN:VEVENT
DTSTART;TZID=UTC:20241014T080000
DTEND;TZID=UTC:20241014T200000
DTSTAMP:20260420T030035
CREATED:20240730T070914Z
LAST-MODIFIED:20240730T070914Z
UID:21871-1728892800-1728936000@shreedevkikrishna.in
SUMMARY:Sh. Dwadashi Kaulprasad
DESCRIPTION:Sh. Dwadashi \nMonday \n14-10-2024 \nKaulprasad (All Atri Gotri Mahajans) Shree Devkikrishna Rangapuja.
URL:https://shreedevkikrishna.in/event/sh-dwadashi-kaulprasad/
CATEGORIES:Ashwin
ATTACH;FMTTYPE=image/jpeg:https://shreedevkikrishna.in/wp-content/uploads/2020/05/img.jpg
END:VEVENT
BEGIN:VEVENT
DTSTART;TZID=UTC:20241013T080000
DTEND;TZID=UTC:20241013T200000
DTSTAMP:20260420T030035
CREATED:20240730T063941Z
LAST-MODIFIED:20240730T063941Z
UID:21869-1728806400-1728849600@shreedevkikrishna.in
SUMMARY:Sh. Ekadashi Kaulprasad
DESCRIPTION:Sh. Ekadashi \nSunday \n13-10-2024 \nKaulprasad (Kashyap & Vatsa Gotra – (Joshi) ) Shree Devkikrishna Rangapuja (Bavachi Pooja).
URL:https://shreedevkikrishna.in/event/sh-ekadashi-kaulprasad/
CATEGORIES:Ashwin
ATTACH;FMTTYPE=image/jpeg:https://shreedevkikrishna.in/wp-content/uploads/2020/04/Untitled-20-1.jpg
END:VEVENT
BEGIN:VEVENT
DTSTART;TZID=UTC:20241012T080000
DTEND;TZID=UTC:20241012T210000
DTSTAMP:20260420T030035
CREATED:20240727T075609Z
LAST-MODIFIED:20240727T075609Z
UID:21604-1728720000-1728766800@shreedevkikrishna.in
SUMMARY:Sh. Dashmi Vijayadashmi.
DESCRIPTION:Sh. Dashmi \nSaturday \n12-10-2024 \nVijayadashmi Shimollanghan\, Roupya Shibikotsava\, Kaulprasad  (Vatsa\, Kashyap & Koushik Gotra) Shree Devkikrishna\, Shree Dadsakhal & Shree Mallinath Rangapuja. \n  \n 
URL:https://shreedevkikrishna.in/event/sh-dashmi-vijayadashmi/
CATEGORIES:Ashwin
ATTACH;FMTTYPE=image/jpeg:https://shreedevkikrishna.in/wp-content/uploads/2024/07/image23.jpg
END:VEVENT
BEGIN:VEVENT
DTSTART;TZID=UTC:20241003T080000
DTEND;TZID=UTC:20241011T233000
DTSTAMP:20260420T030035
CREATED:20240727T074052Z
LAST-MODIFIED:20240727T074052Z
UID:21597-1727942400-1728689400@shreedevkikrishna.in
SUMMARY:Sh. Pratipada to Sh. Navami Navratra Utsav Prarambh\, Ghatasthapana.
DESCRIPTION:Sh. Pratipada to Sh. Navami \nThursday to Friday \n03-10-2024 to 11-10-2024 \nNavratra Utsav Prarambh\, Ghatasthapana. daily Hari Kirtan at 8 pm & Makharotsava thereafter.
URL:https://shreedevkikrishna.in/event/sh-pratipada-to-sh-navami-navratra-utsav-prarambh-ghatasthapana/
CATEGORIES:Ashwin
ATTACH;FMTTYPE=image/jpeg:https://shreedevkikrishna.in/wp-content/uploads/2020/04/3.jpg
END:VEVENT
END:VCALENDAR