BEGIN:VCALENDAR
VERSION:2.0
PRODID:-//Shree Devkikrishna - ECPv6.5.2//NONSGML v1.0//EN
CALSCALE:GREGORIAN
METHOD:PUBLISH
X-ORIGINAL-URL:https://shreedevkikrishna.in
X-WR-CALDESC:Events for Shree Devkikrishna
REFRESH-INTERVAL;VALUE=DURATION:PT1H
X-Robots-Tag:noindex
X-PUBLISHED-TTL:PT1H
BEGIN:VTIMEZONE
TZID:UTC
BEGIN:STANDARD
TZOFFSETFROM:+0000
TZOFFSETTO:+0000
TZNAME:UTC
DTSTART:20240101T000000
END:STANDARD
END:VTIMEZONE
BEGIN:VEVENT
DTSTART;TZID=UTC:20250912T080000
DTEND;TZID=UTC:20250912T200000
DTSTAMP:20260420T030920
CREATED:20250411T170727Z
LAST-MODIFIED:20250411T170727Z
UID:23124-1757664000-1757707200@shreedevkikrishna.in
SUMMARY:Kr. Sashti
DESCRIPTION:Shree Devkikrishna Rangapuja
URL:https://shreedevkikrishna.in/event/kr-sashti/
CATEGORIES:Bhadrapad
ATTACH;FMTTYPE=image/jpeg:https://shreedevkikrishna.in/wp-content/uploads/2020/05/img.jpg
END:VEVENT
BEGIN:VEVENT
DTSTART;TZID=UTC:20250907T080000
DTEND;TZID=UTC:20250907T200000
DTSTAMP:20260420T030920
CREATED:20250411T170537Z
LAST-MODIFIED:20250411T170537Z
UID:23122-1757232000-1757275200@shreedevkikrishna.in
SUMMARY:Pournima
DESCRIPTION:Khagras Chandragrahan\n ‍Sparsh: 9.57 p.m. | Moksh: 1.27 a.m.
URL:https://shreedevkikrishna.in/event/pournima-6/
CATEGORIES:Bhadrapad
ATTACH;FMTTYPE=image/jpeg:https://shreedevkikrishna.in/wp-content/uploads/2020/04/Untitled-20-1.jpg
END:VEVENT
BEGIN:VEVENT
DTSTART;TZID=UTC:20250906T080000
DTEND;TZID=UTC:20250906T200000
DTSTAMP:20260420T030920
CREATED:20250411T170411Z
LAST-MODIFIED:20250411T170411Z
UID:23120-1757145600-1757188800@shreedevkikrishna.in
SUMMARY:Sh. Chaturdashi
DESCRIPTION:Shree Anantchaturdashi at Shree Devkikrishna Saunsthan
URL:https://shreedevkikrishna.in/event/sh-chaturdashi-2/
CATEGORIES:Bhadrapad
ATTACH;FMTTYPE=image/jpeg:https://shreedevkikrishna.in/wp-content/uploads/2020/04/3.jpg
END:VEVENT
BEGIN:VEVENT
DTSTART;TZID=UTC:20250829T080000
DTEND;TZID=UTC:20250829T200000
DTSTAMP:20260420T030920
CREATED:20250411T170246Z
LAST-MODIFIED:20250411T170246Z
UID:23118-1756454400-1756497600@shreedevkikrishna.in
SUMMARY:Sh. Chaturthi
DESCRIPTION: Shree Ganesh Chaturthi
URL:https://shreedevkikrishna.in/event/sh-chaturthi-2/
CATEGORIES:Bhadrapad
ATTACH;FMTTYPE=image/jpeg:https://shreedevkikrishna.in/wp-content/uploads/2020/05/1.jpg
END:VEVENT
BEGIN:VEVENT
DTSTART;TZID=UTC:20250826T080000
DTEND;TZID=UTC:20250826T200000
DTSTAMP:20260420T030920
CREATED:20250411T170051Z
LAST-MODIFIED:20250411T170051Z
UID:23116-1756195200-1756238400@shreedevkikrishna.in
SUMMARY:Sh. Tritiya
DESCRIPTION:Swarna Gouri Vrata
URL:https://shreedevkikrishna.in/event/sh-tritiya-3/
CATEGORIES:Bhadrapad
ATTACH;FMTTYPE=image/jpeg:https://shreedevkikrishna.in/wp-content/uploads/2024/07/4-1.jpg
END:VEVENT
BEGIN:VEVENT
DTSTART;TZID=UTC:20240923T080000
DTEND;TZID=UTC:20240923T170000
DTSTAMP:20260420T030920
CREATED:20240727T072240Z
LAST-MODIFIED:20240727T072647Z
UID:21587-1727078400-1727110800@shreedevkikrishna.in
SUMMARY:Kr. Sashti Shree Devkikrishna Rangapuja
DESCRIPTION:Kr. Sashti \nMonday \n23-09-24 \nShree Devkikrishna Rangapuja \n  \n 
URL:https://shreedevkikrishna.in/event/kr-sashti-shree-devkikrishna-rangapuja/
CATEGORIES:Bhadrapad
ATTACH;FMTTYPE=image/jpeg:https://shreedevkikrishna.in/wp-content/uploads/2024/07/89.jpg
END:VEVENT
BEGIN:VEVENT
DTSTART;TZID=UTC:20240917T080000
DTEND;TZID=UTC:20240917T170000
DTSTAMP:20260420T030920
CREATED:20240727T070813Z
LAST-MODIFIED:20240727T070813Z
UID:21585-1726560000-1726592400@shreedevkikrishna.in
SUMMARY:Sh. Chaturdashi Shree Anantchaturdashi at Shree Devkikrishna Saunsthan
DESCRIPTION:Sh. Chaturdashi \nTuesday \n17-09-24 \nShree Anantchaturdashi at Shree Devkikrishna Saunsthan \n 
URL:https://shreedevkikrishna.in/event/sh-chaturdashi-shree-anantchaturdashi-at-shree-devkikrishna-saunsthan/
CATEGORIES:Bhadrapad
ATTACH;FMTTYPE=image/jpeg:https://shreedevkikrishna.in/wp-content/uploads/2020/05/img.jpg
END:VEVENT
BEGIN:VEVENT
DTSTART;TZID=UTC:20240909T090000
DTEND;TZID=UTC:20240909T200000
DTSTAMP:20260420T030920
CREATED:20240727T063722Z
LAST-MODIFIED:20240727T063722Z
UID:21578-1725872400-1725912000@shreedevkikrishna.in
SUMMARY:Sh. Tritiya Swarna Gouri Vrata
DESCRIPTION:Sh. Tritiya \nFriday \n6-9-24 \nSwarna Gouri Vrata
URL:https://shreedevkikrishna.in/event/sh-tritiya-swarna-gouri-vrata/
CATEGORIES:Bhadrapad
ATTACH;FMTTYPE=image/jpeg:https://shreedevkikrishna.in/wp-content/uploads/2020/04/Untitled-20-1.jpg
END:VEVENT
BEGIN:VEVENT
DTSTART;TZID=UTC:20240907T080000
DTEND;TZID=UTC:20240907T170000
DTSTAMP:20260420T030920
CREATED:20240727T064222Z
LAST-MODIFIED:20240727T064222Z
UID:21581-1725696000-1725728400@shreedevkikrishna.in
SUMMARY:Sh. Chaturthi Shree Ganesh Chaturthi
DESCRIPTION:Sh. Chaturthi \nSaturday \n7-9-24 \nShree Ganesh Chaturthi
URL:https://shreedevkikrishna.in/event/sh-chaturthi-shree-ganesh-chaturthi/
CATEGORIES:Bhadrapad
ATTACH;FMTTYPE=image/jpeg:https://shreedevkikrishna.in/wp-content/uploads/2020/04/3.jpg
END:VEVENT
END:VCALENDAR