BEGIN:VCALENDAR
VERSION:2.0
PRODID:-//Shree Devkikrishna - ECPv6.5.2//NONSGML v1.0//EN
CALSCALE:GREGORIAN
METHOD:PUBLISH
X-ORIGINAL-URL:https://shreedevkikrishna.in
X-WR-CALDESC:Events for Shree Devkikrishna
REFRESH-INTERVAL;VALUE=DURATION:PT1H
X-Robots-Tag:noindex
X-PUBLISHED-TTL:PT1H
BEGIN:VTIMEZONE
TZID:UTC
BEGIN:STANDARD
TZOFFSETFROM:+0000
TZOFFSETTO:+0000
TZNAME:UTC
DTSTART:20240101T000000
END:STANDARD
END:VTIMEZONE
BEGIN:VEVENT
DTSTART;TZID=UTC:20250623T080000
DTEND;TZID=UTC:20250623T200000
DTSTAMP:20260418T064351
CREATED:20250410T115310Z
LAST-MODIFIED:20250410T115310Z
UID:23082-1750665600-1750708800@shreedevkikrishna.in
SUMMARY:Kr. Trayodashi
DESCRIPTION:Shibikotsava 6:30 pm (Trayodashi Palkhi)
URL:https://shreedevkikrishna.in/event/kr-trayodashi-4/
CATEGORIES:Jyestha
ATTACH;FMTTYPE=image/jpeg:https://shreedevkikrishna.in/wp-content/uploads/2020/04/Untitled-20-1.jpg
END:VEVENT
BEGIN:VEVENT
DTSTART;TZID=UTC:20250616T080000
DTEND;TZID=UTC:20250616T200000
DTSTAMP:20260418T064351
CREATED:20250410T115059Z
LAST-MODIFIED:20250410T115059Z
UID:23080-1750060800-1750104000@shreedevkikrishna.in
SUMMARY:Kr. Panchami
DESCRIPTION:Shree Rampurush–Shree Mhalepurush Punn: Pratishta Din\, Shibikotsava 6:30 pm
URL:https://shreedevkikrishna.in/event/kr-panchami-3/
CATEGORIES:Jyestha
ATTACH;FMTTYPE=image/jpeg:https://shreedevkikrishna.in/wp-content/uploads/2020/04/3.jpg
END:VEVENT
BEGIN:VEVENT
DTSTART;TZID=UTC:20250608T080000
DTEND;TZID=UTC:20250608T200000
DTSTAMP:20260418T064351
CREATED:20250410T114930Z
LAST-MODIFIED:20250410T114930Z
UID:23078-1749369600-1749412800@shreedevkikrishna.in
SUMMARY:Sh. Trayodashi
DESCRIPTION:Shibikotsava 6:30 pm (Trayodashi Palkhi)
URL:https://shreedevkikrishna.in/event/sh-trayodashi-4/
CATEGORIES:Jyestha
ATTACH;FMTTYPE=image/jpeg:https://shreedevkikrishna.in/wp-content/uploads/2020/05/1.jpg
END:VEVENT
BEGIN:VEVENT
DTSTART;TZID=UTC:20240703T183000
DTEND;TZID=UTC:20240704T193000
DTSTAMP:20260418T064351
CREATED:20201028T132832Z
LAST-MODIFIED:20240723T190247Z
UID:1200-1720031400-1720121400@shreedevkikrishna.in
SUMMARY:Kr. Trayodashi Shibikotsava 6.30pm (Trayodashi Palkhi)
DESCRIPTION:Kr. Trayodashi\nWednesday\n3-7-24\nShibikotsava 6.30pm (Trayodashi Palkhi)
URL:https://shreedevkikrishna.in/event/buddha-jayanti-holiday/
CATEGORIES:Jyestha
ATTACH;FMTTYPE=image/jpeg:https://shreedevkikrishna.in/wp-content/uploads/2020/04/Shibikotsaav.jpg
END:VEVENT
BEGIN:VEVENT
DTSTART;TZID=UTC:20240626T183000
DTEND;TZID=UTC:20240626T193000
DTSTAMP:20260418T064351
CREATED:20200428T132335Z
LAST-MODIFIED:20240723T185714Z
UID:1196-1719426600-1719430200@shreedevkikrishna.in
SUMMARY:Kr. Panchami Shree Rampurush-Shree Mhalepurush Punn:pratishta din\, Shibikotsava 6.30pm
DESCRIPTION:Kr. Panchami\nWednesday\n26-6-24\nShree Rampurush-Shree Mhalepurush Punn:pratishta din\, Shibikotsava 6.30pm
URL:https://shreedevkikrishna.in/event/kr-panchami-shree-rampurush-shree-mhalepurush-punnpratishta-din-shibikotsava-6-30pm/
CATEGORIES:Jyestha
ATTACH;FMTTYPE=image/jpeg:https://shreedevkikrishna.in/wp-content/uploads/2020/04/Shree-Rampurush.jpg
END:VEVENT
BEGIN:VEVENT
DTSTART;TZID=UTC:20240619T183000
DTEND;TZID=UTC:20240619T193000
DTSTAMP:20260418T064351
CREATED:20200428T132125Z
LAST-MODIFIED:20240723T185550Z
UID:1194-1718821800-1718825400@shreedevkikrishna.in
SUMMARY:Sh. Trayodashi Shibikotsava 6.30pm (Trayosahi Palkhi)
DESCRIPTION:Sh. Trayodashi\nWednesday\n19-6-24  Shibikotsava 6.30pm (Trayosahi Palkhi)
URL:https://shreedevkikrishna.in/event/sh-trayodashi-shibikotsava-6-30pm-trayosahi-palkhi/
CATEGORIES:Jyestha
ATTACH;FMTTYPE=image/jpeg:https://shreedevkikrishna.in/wp-content/uploads/2020/04/Shibikotsaav.jpg
END:VEVENT
BEGIN:VEVENT
DTSTART;TZID=UTC:20240616T183000
DTEND;TZID=UTC:20240616T193000
DTSTAMP:20260418T064351
CREATED:20200428T133115Z
LAST-MODIFIED:20240723T182628Z
UID:1204-1718562600-1718566200@shreedevkikrishna.in
SUMMARY:Sh. Dashami Shree Laxmi-Ravalnath (Pandwada) Vardhapandin
DESCRIPTION:Sh. Dashami\nSunday\n16-6-24\nShree Laxmi-Ravalnath (Pandwada) Vardhapandin\, Laghurudra\, Bramhan-Suvasini santarpan & Shibikotsava 6.30pm
URL:https://shreedevkikrishna.in/event/sh-dashami-shree-laxmi-ravalnath-pandwada-vardhapandin/
CATEGORIES:Jyestha
ATTACH;FMTTYPE=image/jpeg:https://shreedevkikrishna.in/wp-content/uploads/2020/04/shree-ravalnath.jpg
END:VEVENT
END:VCALENDAR