BEGIN:VCALENDAR
VERSION:2.0
PRODID:-//Shree Devkikrishna - ECPv6.5.2//NONSGML v1.0//EN
CALSCALE:GREGORIAN
METHOD:PUBLISH
X-WR-CALNAME:Shree Devkikrishna
X-ORIGINAL-URL:https://shreedevkikrishna.in
X-WR-CALDESC:Events for Shree Devkikrishna
REFRESH-INTERVAL;VALUE=DURATION:PT1H
X-Robots-Tag:noindex
X-PUBLISHED-TTL:PT1H
BEGIN:VTIMEZONE
TZID:UTC
BEGIN:STANDARD
TZOFFSETFROM:+0000
TZOFFSETTO:+0000
TZNAME:UTC
DTSTART:20250101T000000
END:STANDARD
END:VTIMEZONE
BEGIN:VEVENT
DTSTART;TZID=UTC:20251117T080000
DTEND;TZID=UTC:20251117T200000
DTSTAMP:20260420T021254
CREATED:20250411T180601Z
LAST-MODIFIED:20250411T180601Z
UID:23163-1763366400-1763409600@shreedevkikrishna.in
SUMMARY:Kr. Trayodashi
DESCRIPTION: Shibikotsava 6.30 pm (Trayodashi Palkhi)
URL:https://shreedevkikrishna.in/event/kr-trayodashi-5/
CATEGORIES:Kartik
ATTACH;FMTTYPE=image/jpeg:https://shreedevkikrishna.in/wp-content/uploads/2020/05/img.jpg
END:VEVENT
END:VCALENDAR