BEGIN:VCALENDAR
VERSION:2.0
PRODID:-//Shree Devkikrishna - ECPv6.5.2//NONSGML v1.0//EN
CALSCALE:GREGORIAN
METHOD:PUBLISH
X-WR-CALNAME:Shree Devkikrishna
X-ORIGINAL-URL:https://shreedevkikrishna.in
X-WR-CALDESC:Events for Shree Devkikrishna
REFRESH-INTERVAL;VALUE=DURATION:PT1H
X-Robots-Tag:noindex
X-PUBLISHED-TTL:PT1H
BEGIN:VTIMEZONE
TZID:UTC
BEGIN:STANDARD
TZOFFSETFROM:+0000
TZOFFSETTO:+0000
TZNAME:UTC
DTSTART:20250101T000000
END:STANDARD
END:VTIMEZONE
BEGIN:VEVENT
DTSTART;TZID=UTC:20251123T080000
DTEND;TZID=UTC:20251123T200000
DTSTAMP:20260419T234135
CREATED:20250413T024011Z
LAST-MODIFIED:20250413T024011Z
UID:23165-1763884800-1763928000@shreedevkikrishna.in
SUMMARY:Sh. Tritiya
DESCRIPTION:Shree Devikrishna Suvarna Shikhar Kalash Vardhapandin\, Laghuvishnu\, Bramhan-Suvasini Santarpan & Roupya Shibikotsava at 6:30 pm
URL:https://shreedevkikrishna.in/event/sh-tritiya-4/
CATEGORIES:Margashirsha
ATTACH;FMTTYPE=image/jpeg:https://shreedevkikrishna.in/wp-content/uploads/2024/07/2-1.jpg
END:VEVENT
END:VCALENDAR