BEGIN:VCALENDAR
VERSION:2.0
PRODID:-//Shree Devkikrishna - ECPv6.5.2//NONSGML v1.0//EN
CALSCALE:GREGORIAN
METHOD:PUBLISH
X-WR-CALNAME:Shree Devkikrishna
X-ORIGINAL-URL:https://shreedevkikrishna.in
X-WR-CALDESC:Events for Shree Devkikrishna
REFRESH-INTERVAL;VALUE=DURATION:PT1H
X-Robots-Tag:noindex
X-PUBLISHED-TTL:PT1H
BEGIN:VTIMEZONE
TZID:UTC
BEGIN:STANDARD
TZOFFSETFROM:+0000
TZOFFSETTO:+0000
TZNAME:UTC
DTSTART:20250101T000000
END:STANDARD
END:VTIMEZONE
BEGIN:VEVENT
DTSTART;TZID=UTC:20251203T080000
DTEND;TZID=UTC:20251203T200000
DTSTAMP:20260419T222149
CREATED:20250413T024655Z
LAST-MODIFIED:20250413T024655Z
UID:23175-1764748800-1764792000@shreedevkikrishna.in
SUMMARY:Sh. Trayodashi
DESCRIPTION:Shree Devikrishna Jatra\, Bramhan-Suvasini Santarpan\, Lalkhi & Roupya Shibikotsava 8:30 pm
URL:https://shreedevkikrishna.in/event/sh-trayodashi-7/
CATEGORIES:Margashirsha
ATTACH;FMTTYPE=image/jpeg:https://shreedevkikrishna.in/wp-content/uploads/2020/05/img.jpg
END:VEVENT
END:VCALENDAR