BEGIN:VCALENDAR
VERSION:2.0
PRODID:-//Shree Devkikrishna - ECPv6.5.2//NONSGML v1.0//EN
CALSCALE:GREGORIAN
METHOD:PUBLISH
X-WR-CALNAME:Shree Devkikrishna
X-ORIGINAL-URL:https://shreedevkikrishna.in
X-WR-CALDESC:Events for Shree Devkikrishna
REFRESH-INTERVAL;VALUE=DURATION:PT1H
X-Robots-Tag:noindex
X-PUBLISHED-TTL:PT1H
BEGIN:VTIMEZONE
TZID:UTC
BEGIN:STANDARD
TZOFFSETFROM:+0000
TZOFFSETTO:+0000
TZNAME:UTC
DTSTART:20250101T000000
END:STANDARD
END:VTIMEZONE
BEGIN:VEVENT
DTSTART;TZID=UTC:20251215T080000
DTEND;TZID=UTC:20251215T200000
DTSTAMP:20260420T060634
CREATED:20250413T025802Z
LAST-MODIFIED:20250413T025802Z
UID:23190-1765785600-1765828800@shreedevkikrishna.in
SUMMARY:Kr. Ekadashi
DESCRIPTION:Shree Katyayani Jatra\, Lalkhi & Roupya Shibikotsava 8:30 pm
URL:https://shreedevkikrishna.in/event/kr-ekadashi-2/
CATEGORIES:Margashirsha
ATTACH;FMTTYPE=image/jpeg:https://shreedevkikrishna.in/wp-content/uploads/2024/07/2-1.jpg
END:VEVENT
BEGIN:VEVENT
DTSTART;TZID=UTC:20251216T080000
DTEND;TZID=UTC:20251216T200000
DTSTAMP:20260420T060634
CREATED:20250413T025918Z
LAST-MODIFIED:20250413T025918Z
UID:23192-1765872000-1765915200@shreedevkikrishna.in
SUMMARY:Kr. Dwadashi
DESCRIPTION:Shree Dadsakhal Jatra\, Lalkhi & Roupya Shibikotsava 8:30 pm
URL:https://shreedevkikrishna.in/event/kr-dwadashi/
CATEGORIES:Margashirsha
ATTACH;FMTTYPE=image/jpeg:https://shreedevkikrishna.in/wp-content/uploads/2024/07/4-1.jpg
END:VEVENT
BEGIN:VEVENT
DTSTART;TZID=UTC:20251217T080000
DTEND;TZID=UTC:20251217T200000
DTSTAMP:20260420T060634
CREATED:20250413T030057Z
LAST-MODIFIED:20250413T030057Z
UID:23194-1765958400-1766001600@shreedevkikrishna.in
SUMMARY:Kr. Trayodashi
DESCRIPTION: Shibikotsava 6:30 pm (Trayodashi Palkhi)
URL:https://shreedevkikrishna.in/event/kr-trayodashi-6/
CATEGORIES:Margashirsha
ATTACH;FMTTYPE=image/jpeg:https://shreedevkikrishna.in/wp-content/uploads/2020/05/1.jpg
END:VEVENT
BEGIN:VEVENT
DTSTART;TZID=UTC:20251219T080000
DTEND;TZID=UTC:20251219T200000
DTSTAMP:20260420T060634
CREATED:20250413T030212Z
LAST-MODIFIED:20250413T031744Z
UID:23196-1766131200-1766174400@shreedevkikrishna.in
SUMMARY:Amavasya
DESCRIPTION:Shree GajantLaxmi Jatra\, Lalkhi & Roupya Shibikotsava 8:30 pm
URL:https://shreedevkikrishna.in/event/amavasya-3/
CATEGORIES:Margashirsha
ATTACH;FMTTYPE=image/jpeg:https://shreedevkikrishna.in/wp-content/uploads/2020/04/Untitled-20-1.jpg
END:VEVENT
END:VCALENDAR