BEGIN:VCALENDAR
VERSION:2.0
PRODID:-//Shree Devkikrishna - ECPv6.5.2//NONSGML v1.0//EN
CALSCALE:GREGORIAN
METHOD:PUBLISH
X-ORIGINAL-URL:https://shreedevkikrishna.in
X-WR-CALDESC:Events for Shree Devkikrishna
REFRESH-INTERVAL;VALUE=DURATION:PT1H
X-Robots-Tag:noindex
X-PUBLISHED-TTL:PT1H
BEGIN:VTIMEZONE
TZID:UTC
BEGIN:STANDARD
TZOFFSETFROM:+0000
TZOFFSETTO:+0000
TZNAME:UTC
DTSTART:20250101T000000
END:STANDARD
END:VTIMEZONE
BEGIN:VEVENT
DTSTART;TZID=UTC:20260116T080000
DTEND;TZID=UTC:20260116T200000
DTSTAMP:20260419T125219
CREATED:20250413T051400Z
LAST-MODIFIED:20250413T052131Z
UID:23217-1768550400-1768593600@shreedevkikrishna.in
SUMMARY:Kr. Trayodashi
DESCRIPTION: Shibikotsava 6:30 pm (Trayodashi Palkhi)
URL:https://shreedevkikrishna.in/event/kr-trayodashi-7/
CATEGORIES:Pousha
ATTACH;FMTTYPE=image/jpeg:https://shreedevkikrishna.in/wp-content/uploads/2024/07/4-1.jpg
END:VEVENT
BEGIN:VEVENT
DTSTART;TZID=UTC:20260111T080000
DTEND;TZID=UTC:20260111T200000
DTSTAMP:20260419T125219
CREATED:20250413T051249Z
LAST-MODIFIED:20250413T052234Z
UID:23215-1768118400-1768161600@shreedevkikrishna.in
SUMMARY:Kr. Ashtami
DESCRIPTION:Atri Gotri Devpan
URL:https://shreedevkikrishna.in/event/kr-ashtami-3/
CATEGORIES:Pousha
ATTACH;FMTTYPE=image/jpeg:https://shreedevkikrishna.in/wp-content/uploads/2024/07/5-1.jpg
END:VEVENT
BEGIN:VEVENT
DTSTART;TZID=UTC:20260104T080000
DTEND;TZID=UTC:20260108T200000
DTSTAMP:20260419T125220
CREATED:20250413T051138Z
LAST-MODIFIED:20250413T051138Z
UID:23213-1767513600-1767902400@shreedevkikrishna.in
SUMMARY:Kr. Pratipada to Kr. Sasthi
DESCRIPTION:Kr. Pratipada to Kr. Sasthi – Sunday – 4-1-26 to Thursday – 8-1-26\n Everyday Roupya Shibikotsava 9:30 pm & Cultural Programme at Shree Laxmi-Ravalnath (Pandwada) thereafter\n (Mahaprasad at noon on 18.01.25)
URL:https://shreedevkikrishna.in/event/kr-pratipada-to-kr-sasthi/
CATEGORIES:Pousha
ATTACH;FMTTYPE=image/jpeg:https://shreedevkikrishna.in/wp-content/uploads/2024/07/4-1.jpg
END:VEVENT
BEGIN:VEVENT
DTSTART;TZID=UTC:20260101T080000
DTEND;TZID=UTC:20260101T200000
DTSTAMP:20260419T125220
CREATED:20250413T032537Z
LAST-MODIFIED:20250413T032537Z
UID:23206-1767254400-1767297600@shreedevkikrishna.in
SUMMARY:Sh. Trayodashi
DESCRIPTION:Shibikotsava 6:30 pm (Trayodashi Palkhi)
URL:https://shreedevkikrishna.in/event/sh-trayodashi-8/
CATEGORIES:Pousha
ATTACH;FMTTYPE=image/jpeg:https://shreedevkikrishna.in/wp-content/uploads/2020/04/Untitled-20-1.jpg
END:VEVENT
BEGIN:VEVENT
DTSTART;TZID=UTC:20251230T080000
DTEND;TZID=UTC:20251230T200000
DTSTAMP:20260419T125220
CREATED:20250413T032338Z
LAST-MODIFIED:20250413T032338Z
UID:23204-1767081600-1767124800@shreedevkikrishna.in
SUMMARY:Sh. Dashmi
DESCRIPTION:Shree Devikrishna Rangapuja
URL:https://shreedevkikrishna.in/event/sh-dashmi-3/
CATEGORIES:Pousha
ATTACH;FMTTYPE=image/jpeg:https://shreedevkikrishna.in/wp-content/uploads/2020/05/1.jpg
END:VEVENT
BEGIN:VEVENT
DTSTART;TZID=UTC:20251223T080000
DTEND;TZID=UTC:20251223T200000
DTSTAMP:20260419T125220
CREATED:20250413T032207Z
LAST-MODIFIED:20250413T032207Z
UID:23202-1766476800-1766520000@shreedevkikrishna.in
SUMMARY:Sh. Tritiya
DESCRIPTION:Shibikotsava at 9:30 pm & Cultural Programme at Shree Laxmi-Ravalnath Gavanwada
URL:https://shreedevkikrishna.in/event/sh-tritiya-5/
CATEGORIES:Pousha
ATTACH;FMTTYPE=image/jpeg:https://shreedevkikrishna.in/wp-content/uploads/2024/07/4-1.jpg
END:VEVENT
BEGIN:VEVENT
DTSTART;TZID=UTC:20251222T080000
DTEND;TZID=UTC:20251222T200000
DTSTAMP:20260419T125220
CREATED:20250413T032013Z
LAST-MODIFIED:20250413T032013Z
UID:23200-1766390400-1766433600@shreedevkikrishna.in
SUMMARY:Sh. Dwitiya
DESCRIPTION:Shree Laxmi-Ravalnath (Gavanwada) Biyechi Jatra\, Mahabhishek\, Mahapuja\, Mahanaivedya\, Mahasantarpan\, Lalkhi & Roupya Shibikotsava at 11:30 pm\, Divja & Drama
URL:https://shreedevkikrishna.in/event/sh-dwitiya-3/
CATEGORIES:Pousha
ATTACH;FMTTYPE=image/jpeg:https://shreedevkikrishna.in/wp-content/uploads/2024/07/5-1.jpg
END:VEVENT
BEGIN:VEVENT
DTSTART;TZID=UTC:20251221T080000
DTEND;TZID=UTC:20251221T200000
DTSTAMP:20260419T125220
CREATED:20250413T031911Z
LAST-MODIFIED:20250413T031911Z
UID:23198-1766304000-1766347200@shreedevkikrishna.in
SUMMARY:Sh. Pratipada
DESCRIPTION:Shree Devikrishna Rangapuja
URL:https://shreedevkikrishna.in/event/sh-pratipada-4/
CATEGORIES:Pousha
ATTACH;FMTTYPE=image/jpeg:https://shreedevkikrishna.in/wp-content/uploads/2024/07/2-1.jpg
END:VEVENT
BEGIN:VEVENT
DTSTART;TZID=UTC:20251203T080000
DTEND;TZID=UTC:20251203T200000
DTSTAMP:20260419T125220
CREATED:20250413T051000Z
LAST-MODIFIED:20250413T051000Z
UID:23211-1764748800-1764792000@shreedevkikrishna.in
SUMMARY:Pournima
DESCRIPTION:Shree Laxmi-Ravalnath (Pandwada) Malini Pournima Jatra\, Mahabhishek\, Mahapuja\, Mahanaivedhya\, Mahasantarpan\, Early morning at 1:30 am Roupya Shibikotsava & Maha Rathotsava
URL:https://shreedevkikrishna.in/event/pournima-9/
CATEGORIES:Pousha
ATTACH;FMTTYPE=image/jpeg:https://shreedevkikrishna.in/wp-content/uploads/2024/07/2-1.jpg
END:VEVENT
END:VCALENDAR