BEGIN:VCALENDAR
VERSION:2.0
PRODID:-//Shree Devkikrishna - ECPv6.5.2//NONSGML v1.0//EN
CALSCALE:GREGORIAN
METHOD:PUBLISH
X-WR-CALNAME:Shree Devkikrishna
X-ORIGINAL-URL:https://shreedevkikrishna.in
X-WR-CALDESC:Events for Shree Devkikrishna
REFRESH-INTERVAL;VALUE=DURATION:PT1H
X-Robots-Tag:noindex
X-PUBLISHED-TTL:PT1H
BEGIN:VTIMEZONE
TZID:UTC
BEGIN:STANDARD
TZOFFSETFROM:+0000
TZOFFSETTO:+0000
TZNAME:UTC
DTSTART:20250101T000000
END:STANDARD
END:VTIMEZONE
BEGIN:VEVENT
DTSTART;TZID=UTC:20250815T080000
DTEND;TZID=UTC:20250815T200000
DTSTAMP:20260421T001356
CREATED:20250411T164425Z
LAST-MODIFIED:20250411T164425Z
UID:23110-1755244800-1755288000@shreedevkikrishna.in
SUMMARY:Kr. Saptami
DESCRIPTION:Shree Krishna Janmashtami Vrata\, Tirth Snana Palkhi at 10.30 am\,\n 4th Shravan Monday Shree Devkikrishna Rangapuja\, Eve. Kirtan\,\n Shree Krishna Janma at 8 p.m.
URL:https://shreedevkikrishna.in/event/kr-saptami-4/
CATEGORIES:Shravan
ATTACH;FMTTYPE=image/jpeg:https://shreedevkikrishna.in/wp-content/uploads/2020/05/img.jpg
END:VEVENT
END:VCALENDAR