BEGIN:VCALENDAR
VERSION:2.0
PRODID:-//Shree Devkikrishna - ECPv6.5.2//NONSGML v1.0//EN
CALSCALE:GREGORIAN
METHOD:PUBLISH
X-ORIGINAL-URL:https://shreedevkikrishna.in
X-WR-CALDESC:Events for Shree Devkikrishna
REFRESH-INTERVAL;VALUE=DURATION:PT1H
X-Robots-Tag:noindex
X-PUBLISHED-TTL:PT1H
BEGIN:VTIMEZONE
TZID:UTC
BEGIN:STANDARD
TZOFFSETFROM:+0000
TZOFFSETTO:+0000
TZNAME:UTC
DTSTART:20250101T000000
END:STANDARD
END:VTIMEZONE
BEGIN:VEVENT
DTSTART;TZID=UTC:20250525T080000
DTEND;TZID=UTC:20250525T200000
DTSTAMP:20260415T184635
CREATED:20250410T114817Z
LAST-MODIFIED:20250410T114817Z
UID:23076-1748160000-1748203200@shreedevkikrishna.in
SUMMARY:Kr. Trayodashi
DESCRIPTION:Shibikotsava 6:30 pm (Trayodashi Palkhi)
URL:https://shreedevkikrishna.in/event/kr-trayodashi-3/
CATEGORIES:Vaishakh
ATTACH;FMTTYPE=image/jpeg:https://shreedevkikrishna.in/wp-content/uploads/2024/07/4-1.jpg
END:VEVENT
BEGIN:VEVENT
DTSTART;TZID=UTC:20250520T080000
DTEND;TZID=UTC:20250520T200000
DTSTAMP:20260415T184635
CREATED:20250410T114646Z
LAST-MODIFIED:20250410T114646Z
UID:23074-1747728000-1747771200@shreedevkikrishna.in
SUMMARY:Kr. Ashtami
DESCRIPTION:Shibikotsava 6:30 pm
URL:https://shreedevkikrishna.in/event/kr-ashtami-2/
CATEGORIES:Vaishakh
ATTACH;FMTTYPE=image/jpeg:https://shreedevkikrishna.in/wp-content/uploads/2024/07/5-1.jpg
END:VEVENT
BEGIN:VEVENT
DTSTART;TZID=UTC:20250519T080000
DTEND;TZID=UTC:20250519T200000
DTSTAMP:20260415T184635
CREATED:20250410T113718Z
LAST-MODIFIED:20250410T113718Z
UID:23072-1747641600-1747684800@shreedevkikrishna.in
SUMMARY:Kr. Saptami
DESCRIPTION:Shree Devkikrishna Rangapuja
URL:https://shreedevkikrishna.in/event/kr-saptami-3/
CATEGORIES:Vaishakh
ATTACH;FMTTYPE=image/jpeg:https://shreedevkikrishna.in/wp-content/uploads/2020/04/7.jpg
END:VEVENT
BEGIN:VEVENT
DTSTART;TZID=UTC:20250517T080000
DTEND;TZID=UTC:20250517T200000
DTSTAMP:20260415T184635
CREATED:20250410T113551Z
LAST-MODIFIED:20250410T114401Z
UID:23069-1747468800-1747512000@shreedevkikrishna.in
SUMMARY:Kr. Panchami
DESCRIPTION:Shibikotsava 6:30 pm
URL:https://shreedevkikrishna.in/event/kr-panchami-2/
CATEGORIES:Vaishakh
ATTACH;FMTTYPE=image/jpeg:https://shreedevkikrishna.in/wp-content/uploads/2020/05/img.jpg
END:VEVENT
BEGIN:VEVENT
DTSTART;TZID=UTC:20250514T080000
DTEND;TZID=UTC:20250514T200000
DTSTAMP:20260415T184635
CREATED:20250410T113454Z
LAST-MODIFIED:20250410T113454Z
UID:23067-1747209600-1747252800@shreedevkikrishna.in
SUMMARY:Kr. Dwitiya
DESCRIPTION:Shibikotsava 8:00 pm\, Shree Laxmi–Ravalnath (Gavanwada) Vasant puja
URL:https://shreedevkikrishna.in/event/kr-dwitiya-2/
CATEGORIES:Vaishakh
ATTACH;FMTTYPE=image/jpeg:https://shreedevkikrishna.in/wp-content/uploads/2020/04/3.jpg
END:VEVENT
BEGIN:VEVENT
DTSTART;TZID=UTC:20250513T080000
DTEND;TZID=UTC:20250513T200000
DTSTAMP:20260415T184635
CREATED:20250410T113339Z
LAST-MODIFIED:20250410T113339Z
UID:23065-1747123200-1747166400@shreedevkikrishna.in
SUMMARY:Kr. Pratipada
DESCRIPTION:Shibikotsava 8:00 pm\, Shree Laxmi–Ravalnath (Pandwada) Vasant puja
URL:https://shreedevkikrishna.in/event/kr-pratipada/
CATEGORIES:Vaishakh
ATTACH;FMTTYPE=image/jpeg:https://shreedevkikrishna.in/wp-content/uploads/2020/04/Untitled-20-1.jpg
END:VEVENT
BEGIN:VEVENT
DTSTART;TZID=UTC:20250512T080000
DTEND;TZID=UTC:20250512T200000
DTSTAMP:20260415T184635
CREATED:20250410T113155Z
LAST-MODIFIED:20250410T113155Z
UID:23063-1747036800-1747080000@shreedevkikrishna.in
SUMMARY:Pournima
DESCRIPTION:Roupy Shibikotsava 8:00 pm\, Shree Devkikrishna Vasant puja
URL:https://shreedevkikrishna.in/event/pournima-4/
CATEGORIES:Vaishakh
ATTACH;FMTTYPE=image/jpeg:https://shreedevkikrishna.in/wp-content/uploads/2020/05/img.jpg
END:VEVENT
BEGIN:VEVENT
DTSTART;TZID=UTC:20250510T080000
DTEND;TZID=UTC:20250510T200000
DTSTAMP:20260415T184636
CREATED:20250410T113021Z
LAST-MODIFIED:20250410T113021Z
UID:23061-1746864000-1746907200@shreedevkikrishna.in
SUMMARY:Sh. Trayodashi
DESCRIPTION:Shibikotsava 6:30 pm (Trayodashi Palkhi)
URL:https://shreedevkikrishna.in/event/sh-trayodashi-3/
CATEGORIES:Vaishakh
ATTACH;FMTTYPE=image/jpeg:https://shreedevkikrishna.in/wp-content/uploads/2024/07/4-1.jpg
END:VEVENT
BEGIN:VEVENT
DTSTART;TZID=UTC:20250509T080000
DTEND;TZID=UTC:20250509T200000
DTSTAMP:20260415T184636
CREATED:20250410T112912Z
LAST-MODIFIED:20250410T112912Z
UID:23059-1746777600-1746820800@shreedevkikrishna.in
SUMMARY:Sh. Dwadashi
DESCRIPTION:Shree Dadaskal Vasant puja
URL:https://shreedevkikrishna.in/event/sh-dwadashi-2/
CATEGORIES:Vaishakh
ATTACH;FMTTYPE=image/jpeg:https://shreedevkikrishna.in/wp-content/uploads/2020/04/Untitled-20-1.jpg
END:VEVENT
BEGIN:VEVENT
DTSTART;TZID=UTC:20250503T080000
DTEND;TZID=UTC:20250503T200000
DTSTAMP:20260415T184636
CREATED:20250410T111912Z
LAST-MODIFIED:20250410T111912Z
UID:23055-1746259200-1746302400@shreedevkikrishna.in
SUMMARY:Sh. Saptami
DESCRIPTION:Shree Devkikrishna Vardhapan Din\, Shree Devkikrishna Dev Sannidh Shatakalsabhishek\, Mahapuja\, Mahapurnahuti\, Mahamangalartya\, Mahaprasad\, Ashirvad\, Mahasantapan Samapti\, evening Ratotsava and Roupy Shibikotsava
URL:https://shreedevkikrishna.in/event/sh-saptami/
CATEGORIES:Vaishakh
ATTACH;FMTTYPE=image/jpeg:https://shreedevkikrishna.in/wp-content/uploads/2020/04/7.jpg
END:VEVENT
BEGIN:VEVENT
DTSTART;TZID=UTC:20250502T080000
DTEND;TZID=UTC:20250502T200000
DTSTAMP:20260415T184636
CREATED:20250410T111530Z
LAST-MODIFIED:20250410T111653Z
UID:23053-1746172800-1746216000@shreedevkikrishna.in
SUMMARY:Sh. Sashti
DESCRIPTION:Annual Mahanushthan Arambh\, Laghuvishnu\, Laghurudra\, Navchandi Japaparyan etc.
URL:https://shreedevkikrishna.in/event/sh-sashti/
CATEGORIES:Vaishakh
ATTACH;FMTTYPE=image/jpeg:https://shreedevkikrishna.in/wp-content/uploads/2020/04/3.jpg
END:VEVENT
BEGIN:VEVENT
DTSTART;TZID=UTC:20250430T080000
DTEND;TZID=UTC:20250430T200000
DTSTAMP:20260415T184636
CREATED:20250410T111226Z
LAST-MODIFIED:20250410T111226Z
UID:23049-1746000000-1746043200@shreedevkikrishna.in
SUMMARY:Sh. Tritiya
DESCRIPTION:Akshayya Tritiya\, Shibikotsava 6:30 pm\, Vasant puja
URL:https://shreedevkikrishna.in/event/sh-tritiya-2/
CATEGORIES:Vaishakh
ATTACH;FMTTYPE=image/jpeg:https://shreedevkikrishna.in/wp-content/uploads/2024/07/2-1.jpg
END:VEVENT
END:VCALENDAR