BEGIN:VCALENDAR
VERSION:2.0
PRODID:-//Shree Devkikrishna - ECPv6.5.2//NONSGML v1.0//EN
CALSCALE:GREGORIAN
METHOD:PUBLISH
X-WR-CALNAME:Shree Devkikrishna
X-ORIGINAL-URL:https://shreedevkikrishna.in
X-WR-CALDESC:Events for Shree Devkikrishna
REFRESH-INTERVAL;VALUE=DURATION:PT1H
X-Robots-Tag:noindex
X-PUBLISHED-TTL:PT1H
BEGIN:VTIMEZONE
TZID:UTC
BEGIN:STANDARD
TZOFFSETFROM:+0000
TZOFFSETTO:+0000
TZNAME:UTC
DTSTART:20250101T000000
END:STANDARD
END:VTIMEZONE
BEGIN:VEVENT
DTSTART;TZID=UTC:20251021T080000
DTEND;TZID=UTC:20251021T200000
DTSTAMP:20260420T032208
CREATED:20250411T172106Z
LAST-MODIFIED:20250411T172106Z
UID:23141-1761033600-1761076800@shreedevkikrishna.in
SUMMARY:Amavasya
DESCRIPTION:Shree Laxmi Kuber Pujan
URL:https://shreedevkikrishna.in/event/amavasya-2/
CATEGORIES:Ashwin
ATTACH;FMTTYPE=image/jpeg:https://shreedevkikrishna.in/wp-content/uploads/2020/04/Untitled-20-1.jpg
END:VEVENT
BEGIN:VEVENT
DTSTART;TZID=UTC:20251020T080000
DTEND;TZID=UTC:20251020T200000
DTSTAMP:20260420T032208
CREATED:20250411T172009Z
LAST-MODIFIED:20250411T172009Z
UID:23139-1760947200-1760990400@shreedevkikrishna.in
SUMMARY:Kr. Chaturdashi
DESCRIPTION:Narakchaturdashi (Dipavali)
URL:https://shreedevkikrishna.in/event/kr-chaturdashi-2/
CATEGORIES:Ashwin
ATTACH;FMTTYPE=image/jpeg:https://shreedevkikrishna.in/wp-content/uploads/2024/07/4-1.jpg
END:VEVENT
BEGIN:VEVENT
DTSTART;TZID=UTC:20251006T080000
DTEND;TZID=UTC:20251006T200000
DTSTAMP:20260420T032208
CREATED:20250411T171833Z
LAST-MODIFIED:20250411T171905Z
UID:23136-1759737600-1759780800@shreedevkikrishna.in
SUMMARY:Sh. Chaturdashi
DESCRIPTION: Kojagari Pournima Utsav
URL:https://shreedevkikrishna.in/event/sh-chaturdash/
CATEGORIES:Ashwin
ATTACH;FMTTYPE=image/jpeg:https://shreedevkikrishna.in/wp-content/uploads/2024/07/5-1.jpg
END:VEVENT
BEGIN:VEVENT
DTSTART;TZID=UTC:20251005T080000
DTEND;TZID=UTC:20251005T200000
DTSTAMP:20260420T032208
CREATED:20250411T171524Z
LAST-MODIFIED:20250411T171524Z
UID:23134-1759651200-1759694400@shreedevkikrishna.in
SUMMARY:Sh. Trayodashi
DESCRIPTION:Kaulprasad (Daivadnya Bramhan) – Shree Devkikrishna Rangapuja
URL:https://shreedevkikrishna.in/event/sh-trayodashi-5/
CATEGORIES:Ashwin
ATTACH;FMTTYPE=image/jpeg:https://shreedevkikrishna.in/wp-content/uploads/2020/05/img.jpg
END:VEVENT
BEGIN:VEVENT
DTSTART;TZID=UTC:20251004T080000
DTEND;TZID=UTC:20251004T200000
DTSTAMP:20260420T032208
CREATED:20250411T171418Z
LAST-MODIFIED:20250411T171418Z
UID:23132-1759564800-1759608000@shreedevkikrishna.in
SUMMARY:Sh. Dwadashi
DESCRIPTION:Kaulprasad (All Atri Gotri Mahajans) – Shree Devkikrishna Rangapuja
URL:https://shreedevkikrishna.in/event/sh-dwadashi-4/
CATEGORIES:Ashwin
ATTACH;FMTTYPE=image/jpeg:https://shreedevkikrishna.in/wp-content/uploads/2020/04/Untitled-20-1.jpg
END:VEVENT
BEGIN:VEVENT
DTSTART;TZID=UTC:20251003T080000
DTEND;TZID=UTC:20251003T200000
DTSTAMP:20260420T032208
CREATED:20250411T171301Z
LAST-MODIFIED:20250411T171301Z
UID:23130-1759478400-1759521600@shreedevkikrishna.in
SUMMARY:Sh. Ekadashi
DESCRIPTION:Kaulprasad (Kashyap & Vatsa Gotra – Joshi) – Shree Devkikrishna Rangapuja (Bavachi Pooja)
URL:https://shreedevkikrishna.in/event/sh-ekadashi-3/
CATEGORIES:Ashwin
ATTACH;FMTTYPE=image/jpeg:https://shreedevkikrishna.in/wp-content/uploads/2020/04/3.jpg
END:VEVENT
BEGIN:VEVENT
DTSTART;TZID=UTC:20251002T080000
DTEND;TZID=UTC:20251002T200000
DTSTAMP:20260420T032208
CREATED:20250411T171154Z
LAST-MODIFIED:20250411T171154Z
UID:23128-1759392000-1759435200@shreedevkikrishna.in
SUMMARY:Sh. Dashmi
DESCRIPTION:Vijayadashami\, Shimollanghan\, Roupya Shibikotsava\, Kaulprasad\n (Vatsa\, Kashyap & Koushik Gotra) Shree Devkikrishna\, Shree Dadsakhal & Shree Mallinath Rangapuja
URL:https://shreedevkikrishna.in/event/sh-dashmi-2/
CATEGORIES:Ashwin
ATTACH;FMTTYPE=image/jpeg:https://shreedevkikrishna.in/wp-content/uploads/2024/07/4-1.jpg
END:VEVENT
BEGIN:VEVENT
DTSTART;TZID=UTC:20250922T080000
DTEND;TZID=UTC:20251001T200000
DTSTAMP:20260420T032208
CREATED:20250411T171028Z
LAST-MODIFIED:20250411T171028Z
UID:23126-1758528000-1759348800@shreedevkikrishna.in
SUMMARY:Navratra Utsav Prarambh\, Ghatastapana\, daily Hari Kirtan at 8 pm & Makharotsava thereafter.
DESCRIPTION:Sh. Pratipada to Sh. Navami – Monday 22-9-25 to Wednesday 1-10-25\n Navratra Utsav Prarambh\, Ghatastapana\, daily Hari Kirtan at 8 pm & Makharotsava thereafter.
URL:https://shreedevkikrishna.in/event/navratra-utsav-prarambh-ghatastapana-daily-hari-kirtan-at-8-pm-makharotsava-thereafter/
CATEGORIES:Ashwin
ATTACH;FMTTYPE=image/jpeg:https://shreedevkikrishna.in/wp-content/uploads/2024/07/2-1.jpg
END:VEVENT
BEGIN:VEVENT
DTSTART;TZID=UTC:20250912T080000
DTEND;TZID=UTC:20250912T200000
DTSTAMP:20260420T032208
CREATED:20250411T170727Z
LAST-MODIFIED:20250411T170727Z
UID:23124-1757664000-1757707200@shreedevkikrishna.in
SUMMARY:Kr. Sashti
DESCRIPTION:Shree Devkikrishna Rangapuja
URL:https://shreedevkikrishna.in/event/kr-sashti/
CATEGORIES:Bhadrapad
ATTACH;FMTTYPE=image/jpeg:https://shreedevkikrishna.in/wp-content/uploads/2020/05/img.jpg
END:VEVENT
BEGIN:VEVENT
DTSTART;TZID=UTC:20250907T080000
DTEND;TZID=UTC:20250907T200000
DTSTAMP:20260420T032208
CREATED:20250411T170537Z
LAST-MODIFIED:20250411T170537Z
UID:23122-1757232000-1757275200@shreedevkikrishna.in
SUMMARY:Pournima
DESCRIPTION:Khagras Chandragrahan\n ‍Sparsh: 9.57 p.m. | Moksh: 1.27 a.m.
URL:https://shreedevkikrishna.in/event/pournima-6/
CATEGORIES:Bhadrapad
ATTACH;FMTTYPE=image/jpeg:https://shreedevkikrishna.in/wp-content/uploads/2020/04/Untitled-20-1.jpg
END:VEVENT
BEGIN:VEVENT
DTSTART;TZID=UTC:20250906T080000
DTEND;TZID=UTC:20250906T200000
DTSTAMP:20260420T032208
CREATED:20250411T170411Z
LAST-MODIFIED:20250411T170411Z
UID:23120-1757145600-1757188800@shreedevkikrishna.in
SUMMARY:Sh. Chaturdashi
DESCRIPTION:Shree Anantchaturdashi at Shree Devkikrishna Saunsthan
URL:https://shreedevkikrishna.in/event/sh-chaturdashi-2/
CATEGORIES:Bhadrapad
ATTACH;FMTTYPE=image/jpeg:https://shreedevkikrishna.in/wp-content/uploads/2020/04/3.jpg
END:VEVENT
BEGIN:VEVENT
DTSTART;TZID=UTC:20250829T080000
DTEND;TZID=UTC:20250829T200000
DTSTAMP:20260420T032208
CREATED:20250411T170246Z
LAST-MODIFIED:20250411T170246Z
UID:23118-1756454400-1756497600@shreedevkikrishna.in
SUMMARY:Sh. Chaturthi
DESCRIPTION: Shree Ganesh Chaturthi
URL:https://shreedevkikrishna.in/event/sh-chaturthi-2/
CATEGORIES:Bhadrapad
ATTACH;FMTTYPE=image/jpeg:https://shreedevkikrishna.in/wp-content/uploads/2020/05/1.jpg
END:VEVENT
BEGIN:VEVENT
DTSTART;TZID=UTC:20250826T080000
DTEND;TZID=UTC:20250826T200000
DTSTAMP:20260420T032208
CREATED:20250411T170051Z
LAST-MODIFIED:20250411T170051Z
UID:23116-1756195200-1756238400@shreedevkikrishna.in
SUMMARY:Sh. Tritiya
DESCRIPTION:Swarna Gouri Vrata
URL:https://shreedevkikrishna.in/event/sh-tritiya-3/
CATEGORIES:Bhadrapad
ATTACH;FMTTYPE=image/jpeg:https://shreedevkikrishna.in/wp-content/uploads/2024/07/4-1.jpg
END:VEVENT
BEGIN:VEVENT
DTSTART;TZID=UTC:20250819T080000
DTEND;TZID=UTC:20250819T200000
DTSTAMP:20260420T032208
CREATED:20250411T164724Z
LAST-MODIFIED:20250411T164724Z
UID:23114-1755590400-1755633600@shreedevkikrishna.in
SUMMARY:Kr. Ekadashi
DESCRIPTION:4th Tuesday Shri Laxmi Ravalnath (Pandawada) Rangapuja
URL:https://shreedevkikrishna.in/event/kr-ekadashi/
CATEGORIES:Shravan
ATTACH;FMTTYPE=image/jpeg:https://shreedevkikrishna.in/wp-content/uploads/2024/07/5-1.jpg
END:VEVENT
BEGIN:VEVENT
DTSTART;TZID=UTC:20250818T080000
DTEND;TZID=UTC:20250818T200000
DTSTAMP:20260420T032208
CREATED:20250411T164536Z
LAST-MODIFIED:20250411T164536Z
UID:23112-1755504000-1755547200@shreedevkikrishna.in
SUMMARY:Kr. Dashmi
DESCRIPTION:4th Shravan Monday Shree Devkikrishna Rangapuja
URL:https://shreedevkikrishna.in/event/kr-dashmi-3/
CATEGORIES:Shravan
ATTACH;FMTTYPE=image/jpeg:https://shreedevkikrishna.in/wp-content/uploads/2024/07/2-1.jpg
END:VEVENT
BEGIN:VEVENT
DTSTART;TZID=UTC:20250815T080000
DTEND;TZID=UTC:20250815T200000
DTSTAMP:20260420T032208
CREATED:20250411T164425Z
LAST-MODIFIED:20250411T164425Z
UID:23110-1755244800-1755288000@shreedevkikrishna.in
SUMMARY:Kr. Saptami
DESCRIPTION:Shree Krishna Janmashtami Vrata\, Tirth Snana Palkhi at 10.30 am\,\n 4th Shravan Monday Shree Devkikrishna Rangapuja\, Eve. Kirtan\,\n Shree Krishna Janma at 8 p.m.
URL:https://shreedevkikrishna.in/event/kr-saptami-4/
CATEGORIES:Shravan
ATTACH;FMTTYPE=image/jpeg:https://shreedevkikrishna.in/wp-content/uploads/2020/05/img.jpg
END:VEVENT
BEGIN:VEVENT
DTSTART;TZID=UTC:20250812T080000
DTEND;TZID=UTC:20250814T200000
DTSTAMP:20260420T032208
CREATED:20250411T164236Z
LAST-MODIFIED:20250411T164236Z
UID:23108-1754985600-1755201600@shreedevkikrishna.in
SUMMARY:Shree Devkikrishna Rangapuja
DESCRIPTION:Kr. Tritiya – Tuesday – 12-8-25\n to\n Kr. Sashti – Thursday – 14-8-25 \nShree Devkikrishna Rangapuja
URL:https://shreedevkikrishna.in/event/shree-devkikrishna-rangapuja/
CATEGORIES:Shravan
ATTACH;FMTTYPE=image/jpeg:https://shreedevkikrishna.in/wp-content/uploads/2020/04/Untitled-20-1.jpg
END:VEVENT
BEGIN:VEVENT
DTSTART;TZID=UTC:20250811T080000
DTEND;TZID=UTC:20250811T200000
DTSTAMP:20260420T032208
CREATED:20250411T164002Z
LAST-MODIFIED:20250411T164002Z
UID:23106-1754899200-1754942400@shreedevkikrishna.in
SUMMARY:Kr. Dwitiya
DESCRIPTION:3rd Shravan Monday Shree Devkikrishna Rangapuja
URL:https://shreedevkikrishna.in/event/kr-dwitiya-3/
CATEGORIES:Shravan
ATTACH;FMTTYPE=image/jpeg:https://shreedevkikrishna.in/wp-content/uploads/2020/04/3.jpg
END:VEVENT
BEGIN:VEVENT
DTSTART;TZID=UTC:20250810T080000
DTEND;TZID=UTC:20250810T170000
DTSTAMP:20260420T032208
CREATED:20250411T163849Z
LAST-MODIFIED:20250411T163849Z
UID:23104-1754812800-1754845200@shreedevkikrishna.in
SUMMARY:Kr. Pratipada
DESCRIPTION:Shree Laxmi-Ravalnath (Pandwada) Dazhanachi Rangapuja
URL:https://shreedevkikrishna.in/event/kr-pratipada-2/
CATEGORIES:Shravan
ATTACH;FMTTYPE=image/jpeg:https://shreedevkikrishna.in/wp-content/uploads/2020/05/1.jpg
END:VEVENT
BEGIN:VEVENT
DTSTART;TZID=UTC:20250809T080000
DTEND;TZID=UTC:20250809T200000
DTSTAMP:20260420T032208
CREATED:20250411T163744Z
LAST-MODIFIED:20250411T163744Z
UID:23102-1754726400-1754769600@shreedevkikrishna.in
SUMMARY:Pournima
DESCRIPTION:Narali Poornima\, Rakshabandhan\, Rukk Shravan 3rd Shravan Monday\,\n Shree Devkikrishna Rangapuja\, & Shree Laxmi-Ravalnath (Pandwada & Gavanwada) Rangapuja
URL:https://shreedevkikrishna.in/event/pournima-5/
CATEGORIES:Shravan
ATTACH;FMTTYPE=image/jpeg:https://shreedevkikrishna.in/wp-content/uploads/2024/07/4-1.jpg
END:VEVENT
BEGIN:VEVENT
DTSTART;TZID=UTC:20250804T080000
DTEND;TZID=UTC:20250804T200000
DTSTAMP:20260420T032208
CREATED:20250411T163635Z
LAST-MODIFIED:20250411T163635Z
UID:23100-1754294400-1754337600@shreedevkikrishna.in
SUMMARY:Sh. Dashmi
DESCRIPTION:2nd Shravan Monday Shree Devkikrishna Rangapuja\n (Shri Chodankar Gramastha – Jayanchi Puja) Shree Dadsakhal Rangapuja.
URL:https://shreedevkikrishna.in/event/sh-dashmi/
CATEGORIES:Shravan
ATTACH;FMTTYPE=image/jpeg:https://shreedevkikrishna.in/wp-content/uploads/2024/07/5-1.jpg
END:VEVENT
BEGIN:VEVENT
DTSTART;TZID=UTC:20250728T080000
DTEND;TZID=UTC:20250728T200000
DTSTAMP:20260420T032208
CREATED:20250411T163509Z
LAST-MODIFIED:20250411T163509Z
UID:23098-1753689600-1753732800@shreedevkikrishna.in
SUMMARY:Sh. Chaturthi
DESCRIPTION:1st Shravan Monday Shree Devkikrishna Rangapuja
URL:https://shreedevkikrishna.in/event/sh-chaturthi/
CATEGORIES:Shravan
ATTACH;FMTTYPE=image/jpeg:https://shreedevkikrishna.in/wp-content/uploads/2024/07/2-1.jpg
END:VEVENT
BEGIN:VEVENT
DTSTART;TZID=UTC:20250715T080000
DTEND;TZID=UTC:20250715T200000
DTSTAMP:20260420T032208
CREATED:20250410T121136Z
LAST-MODIFIED:20250410T121527Z
UID:23090-1752566400-1752609600@shreedevkikrishna.in
SUMMARY:Kr. Panchami
DESCRIPTION:Samprokshana at Shree Devkikrishna Sansthan
URL:https://shreedevkikrishna.in/event/kr-pancham/
CATEGORIES:Ashadh
ATTACH;FMTTYPE=image/jpeg:https://shreedevkikrishna.in/wp-content/uploads/2024/07/4-1.jpg
END:VEVENT
BEGIN:VEVENT
DTSTART;TZID=UTC:20250707T080000
DTEND;TZID=UTC:20250707T170000
DTSTAMP:20260420T032208
CREATED:20250410T120346Z
LAST-MODIFIED:20250410T121934Z
UID:23088-1751875200-1751907600@shreedevkikrishna.in
SUMMARY:Sh. Dwadashi
DESCRIPTION:Gopalkala (Chikhalkaal) at Shree Devkikrishna Rangapuja
URL:https://shreedevkikrishna.in/event/sh-dwadashi-3/
CATEGORIES:Ashadh
ATTACH;FMTTYPE=image/jpeg:https://shreedevkikrishna.in/wp-content/uploads/2024/07/5-1.jpg
END:VEVENT
BEGIN:VEVENT
DTSTART;TZID=UTC:20250706T080000
DTEND;TZID=UTC:20250706T200000
DTSTAMP:20260420T032208
CREATED:20250410T120238Z
LAST-MODIFIED:20250410T121836Z
UID:23086-1751788800-1751832000@shreedevkikrishna.in
SUMMARY:Sh. Ekadashi
DESCRIPTION:Annual Bhajani Saptaha at Shree Devkikrishna Sansthan
URL:https://shreedevkikrishna.in/event/sh-ekadashi-2/
CATEGORIES:Ashadh
ATTACH;FMTTYPE=image/jpeg:https://shreedevkikrishna.in/wp-content/uploads/2024/07/2-1.jpg
END:VEVENT
BEGIN:VEVENT
DTSTART;TZID=UTC:20250705T080000
DTEND;TZID=UTC:20250705T200000
DTSTAMP:20260420T032208
CREATED:20250410T120114Z
LAST-MODIFIED:20250410T120114Z
UID:23084-1751702400-1751745600@shreedevkikrishna.in
SUMMARY:Sh. Dashami
DESCRIPTION:Shree Devkikrishna Rangapuja
URL:https://shreedevkikrishna.in/event/sh-dashami/
CATEGORIES:Ashadh
ATTACH;FMTTYPE=image/jpeg:https://shreedevkikrishna.in/wp-content/uploads/2020/05/img.jpg
END:VEVENT
BEGIN:VEVENT
DTSTART;TZID=UTC:20250623T080000
DTEND;TZID=UTC:20250623T200000
DTSTAMP:20260420T032208
CREATED:20250410T115310Z
LAST-MODIFIED:20250410T115310Z
UID:23082-1750665600-1750708800@shreedevkikrishna.in
SUMMARY:Kr. Trayodashi
DESCRIPTION:Shibikotsava 6:30 pm (Trayodashi Palkhi)
URL:https://shreedevkikrishna.in/event/kr-trayodashi-4/
CATEGORIES:Jyestha
ATTACH;FMTTYPE=image/jpeg:https://shreedevkikrishna.in/wp-content/uploads/2020/04/Untitled-20-1.jpg
END:VEVENT
BEGIN:VEVENT
DTSTART;TZID=UTC:20250616T080000
DTEND;TZID=UTC:20250616T200000
DTSTAMP:20260420T032208
CREATED:20250410T115059Z
LAST-MODIFIED:20250410T115059Z
UID:23080-1750060800-1750104000@shreedevkikrishna.in
SUMMARY:Kr. Panchami
DESCRIPTION:Shree Rampurush–Shree Mhalepurush Punn: Pratishta Din\, Shibikotsava 6:30 pm
URL:https://shreedevkikrishna.in/event/kr-panchami-3/
CATEGORIES:Jyestha
ATTACH;FMTTYPE=image/jpeg:https://shreedevkikrishna.in/wp-content/uploads/2020/04/3.jpg
END:VEVENT
BEGIN:VEVENT
DTSTART;TZID=UTC:20250608T080000
DTEND;TZID=UTC:20250608T200000
DTSTAMP:20260420T032208
CREATED:20250410T114930Z
LAST-MODIFIED:20250410T114930Z
UID:23078-1749369600-1749412800@shreedevkikrishna.in
SUMMARY:Sh. Trayodashi
DESCRIPTION:Shibikotsava 6:30 pm (Trayodashi Palkhi)
URL:https://shreedevkikrishna.in/event/sh-trayodashi-4/
CATEGORIES:Jyestha
ATTACH;FMTTYPE=image/jpeg:https://shreedevkikrishna.in/wp-content/uploads/2020/05/1.jpg
END:VEVENT
BEGIN:VEVENT
DTSTART;TZID=UTC:20250525T080000
DTEND;TZID=UTC:20250525T200000
DTSTAMP:20260420T032208
CREATED:20250410T114817Z
LAST-MODIFIED:20250410T114817Z
UID:23076-1748160000-1748203200@shreedevkikrishna.in
SUMMARY:Kr. Trayodashi
DESCRIPTION:Shibikotsava 6:30 pm (Trayodashi Palkhi)
URL:https://shreedevkikrishna.in/event/kr-trayodashi-3/
CATEGORIES:Vaishakh
ATTACH;FMTTYPE=image/jpeg:https://shreedevkikrishna.in/wp-content/uploads/2024/07/4-1.jpg
END:VEVENT
END:VCALENDAR